BEGIN:VCALENDAR
VERSION:2.0
PRODID:-//State Senator James Malone - ECPv6.15.20//NONSGML v1.0//EN
CALSCALE:GREGORIAN
METHOD:PUBLISH
X-ORIGINAL-URL:https://senatormalone.com
X-WR-CALDESC:Events for State Senator James Malone
REFRESH-INTERVAL;VALUE=DURATION:PT1H
X-Robots-Tag:noindex
X-PUBLISHED-TTL:PT1H
BEGIN:VTIMEZONE
TZID:America/New_York
BEGIN:DAYLIGHT
TZOFFSETFROM:-0500
TZOFFSETTO:-0400
TZNAME:EDT
DTSTART:20240310T070000
END:DAYLIGHT
BEGIN:STANDARD
TZOFFSETFROM:-0400
TZOFFSETTO:-0500
TZNAME:EST
DTSTART:20241103T060000
END:STANDARD
BEGIN:DAYLIGHT
TZOFFSETFROM:-0500
TZOFFSETTO:-0400
TZNAME:EDT
DTSTART:20250309T070000
END:DAYLIGHT
BEGIN:STANDARD
TZOFFSETFROM:-0400
TZOFFSETTO:-0500
TZNAME:EST
DTSTART:20251102T060000
END:STANDARD
BEGIN:DAYLIGHT
TZOFFSETFROM:-0500
TZOFFSETTO:-0400
TZNAME:EDT
DTSTART:20260308T070000
END:DAYLIGHT
BEGIN:STANDARD
TZOFFSETFROM:-0400
TZOFFSETTO:-0500
TZNAME:EST
DTSTART:20261101T060000
END:STANDARD
END:VTIMEZONE
BEGIN:VEVENT
DTSTART;TZID=America/New_York:20250816T090000
DTEND;TZID=America/New_York:20250816T113000
DTSTAMP:20260425T171104
CREATED:20250729T133110Z
LAST-MODIFIED:20250806T123019Z
UID:10000008-1755334800-1755343800@senatormalone.com
SUMMARY:Shredding Event
DESCRIPTION:Protect your personal information and safely dispose of sensitive documents at our free community shredding event. Residents are invited to bring old bills\, bank statements\, medical records\, and other paper documents for secure on-site shredding. \nPlease note that this event is for paper shredding only. We will not be accepting any electronic waste or items for recycling. To ensure we can serve as many community members as possible\, there is a limit of two boxes of paper per car\, with each box being approximately the size of a standard banker box or smaller. \nThis is a great opportunity to declutter while taking proactive steps to prevent identity theft. The event is free and open to the public on a first-come\, first-served basis.
URL:https://senatormalone.com/event/shredding/
LOCATION:Warwick High School\, 301 W Orange Street\, Lititz\, 17543\, United States
ATTACH;FMTTYPE=image/jpeg:https://senatormalone.com/wp-content/uploads/2025/07/Shredding-Event-Aug-2025.jpg
END:VEVENT
END:VCALENDAR