BEGIN:VCALENDAR
VERSION:2.0
PRODID:-//State Senator James Malone - ECPv6.15.20//NONSGML v1.0//EN
CALSCALE:GREGORIAN
METHOD:PUBLISH
X-WR-CALNAME:State Senator James Malone
X-ORIGINAL-URL:https://senatormalone.com
X-WR-CALDESC:Events for State Senator James Malone
REFRESH-INTERVAL;VALUE=DURATION:PT1H
X-Robots-Tag:noindex
X-PUBLISHED-TTL:PT1H
BEGIN:VTIMEZONE
TZID:America/New_York
BEGIN:DAYLIGHT
TZOFFSETFROM:-0500
TZOFFSETTO:-0400
TZNAME:EDT
DTSTART:20240310T070000
END:DAYLIGHT
BEGIN:STANDARD
TZOFFSETFROM:-0400
TZOFFSETTO:-0500
TZNAME:EST
DTSTART:20241103T060000
END:STANDARD
BEGIN:DAYLIGHT
TZOFFSETFROM:-0500
TZOFFSETTO:-0400
TZNAME:EDT
DTSTART:20250309T070000
END:DAYLIGHT
BEGIN:STANDARD
TZOFFSETFROM:-0400
TZOFFSETTO:-0500
TZNAME:EST
DTSTART:20251102T060000
END:STANDARD
BEGIN:DAYLIGHT
TZOFFSETFROM:-0500
TZOFFSETTO:-0400
TZNAME:EDT
DTSTART:20260308T070000
END:DAYLIGHT
BEGIN:STANDARD
TZOFFSETFROM:-0400
TZOFFSETTO:-0500
TZNAME:EST
DTSTART:20261101T060000
END:STANDARD
BEGIN:DAYLIGHT
TZOFFSETFROM:-0500
TZOFFSETTO:-0400
TZNAME:EDT
DTSTART:20270314T070000
END:DAYLIGHT
BEGIN:STANDARD
TZOFFSETFROM:-0400
TZOFFSETTO:-0500
TZNAME:EST
DTSTART:20271107T060000
END:STANDARD
END:VTIMEZONE
BEGIN:VEVENT
DTSTART;VALUE=DATE:20251001
DTEND;VALUE=DATE:20251005
DTSTAMP:20260426T001035
CREATED:20250729T140544Z
LAST-MODIFIED:20250807T201818Z
UID:10000021-1759276800-1759622399@senatormalone.com
SUMMARY:Tabling at the New Holland Farmers Fair
DESCRIPTION:Stop by our table to speak with our team. We’ll be available to assist constituents with questions or concerns related to state agencies and services.
URL:https://senatormalone.com/event/new-holland-farmers-fair/
LOCATION:100 blocks of East and West Main Street\, 100 E Main Street\, New Holland\, 17557\, United States
ATTACH;FMTTYPE=image/jpeg:https://senatormalone.com/wp-content/uploads/2025/08/New-Holland-Fair-Oct-2025.jpg
END:VEVENT
BEGIN:VEVENT
DTSTART;TZID=America/New_York:20251002T180000
DTEND;TZID=America/New_York:20251002T190000
DTSTAMP:20260426T001035
CREATED:20250916T190344Z
LAST-MODIFIED:20251002T190704Z
UID:10000023-1759428000-1759431600@senatormalone.com
SUMMARY:FAFSA Webinar
DESCRIPTION:Join us and the Pennsylvania Higher Education Assistance Agency (PHEAA) for a free webinar on the 2025-26 FAFSA. Learn how to complete the updated application\, what documents you’ll need\, and how to maximize your financial aid. Whether you’re a student\, parent\, or counselor\, this session will help you confidently take the next step toward college. \nAttendees will also have the opportunity to sign up for Virtual FAFSA Completion Events on October 3 and October 10\, where they can meet one-on-one with a PHEAA representative via Microsoft Teams to complete and submit their FAFSA. \nRegister here: https://us02web.zoom.us/webinar/register/WN_ndAqMAp9QoWwvdDZ9wTrvA \nWatch Live Stream
URL:https://senatormalone.com/event/fafsa-webinar-2/
LOCATION:Virtual
ATTACH;FMTTYPE=image/jpeg:https://senatormalone.com/wp-content/uploads/2025/09/FAFSA-Webinar-Graphic-Revised.jpg
END:VEVENT
BEGIN:VEVENT
DTSTART;VALUE=DATE:20251006
DTEND;VALUE=DATE:20251011
DTSTAMP:20260426T001035
CREATED:20250729T134617Z
LAST-MODIFIED:20250807T201839Z
UID:10000019-1759708800-1760140799@senatormalone.com
SUMMARY:Tabling at the Manheim Community Farm Show
DESCRIPTION:Stop by our table to speak with our team. We’ll be available to assist constituents with questions or concerns related to state agencies and services.
URL:https://senatormalone.com/event/farm-show/
LOCATION:Manheim Farm Show\, 502 Adele Avenue\, Manheim\, PA\, 17545\, United States
ATTACH;FMTTYPE=image/jpeg:https://senatormalone.com/wp-content/uploads/2025/08/Manheim-Farm-Show-Oct-2025.jpg
END:VEVENT
BEGIN:VEVENT
DTSTART;TZID=America/New_York:20251011T110000
DTEND;TZID=America/New_York:20251011T170000
DTSTAMP:20260426T001035
CREATED:20250729T134538Z
LAST-MODIFIED:20250807T202234Z
UID:10000017-1760180400-1760202000@senatormalone.com
SUMMARY:Tabling at Harvest Days
DESCRIPTION:Stop by our table to speak with our team. We’ll be available to assist constituents with questions or concerns related to state agencies and services.
URL:https://senatormalone.com/event/harvest-days/
LOCATION:Landis Valley Village & Farm Museum\, 2451 Kissel Hill Road\, Lancaster\, 17601\, United States
ATTACH;FMTTYPE=image/jpeg:https://senatormalone.com/wp-content/uploads/2025/08/Harvest-Days-2025.jpg
END:VEVENT
BEGIN:VEVENT
DTSTART;TZID=America/New_York:20251011T120000
DTEND;TZID=America/New_York:20251011T150000
DTSTAMP:20260426T001035
CREATED:20250729T133842Z
LAST-MODIFIED:20250807T202354Z
UID:10000013-1760184000-1760194800@senatormalone.com
SUMMARY:Tabling at Second Saturdays in Lititz
DESCRIPTION:A representative will be available outside our District Office at 301 East Main Street\, Lititz\, PA 17543 to provide assistance with state agency-related inquiries and concerns.
URL:https://senatormalone.com/event/second-saturdays/2025-10-11/
LOCATION:District Office\, 301 E Main Street\, Lititz\, 17543\, United States
ATTACH;FMTTYPE=image/jpeg:https://senatormalone.com/wp-content/uploads/2025/08/Second-Saturdays-Sept-Oct-2025.jpg
END:VEVENT
BEGIN:VEVENT
DTSTART;TZID=America/New_York:20251014T160000
DTEND;TZID=America/New_York:20251014T180000
DTSTAMP:20260426T001035
CREATED:20250916T192310Z
LAST-MODIFIED:20250916T192310Z
UID:10000025-1760457600-1760464800@senatormalone.com
SUMMARY:License Plate Replacement & Car Seat Safety Event
DESCRIPTION:We’re partnering with the PA State Police to help keep you and your family safe on the road! Stop by for on-site license plate replacements if your plate is peeling\, faded\, or hard to read\, and get a free car seat safety check from certified technicians. Registration is required through our office. \nTo register\, contact our Lititz office at 717-627-0036.
URL:https://senatormalone.com/event/license-plate-replacement-car-seat-safety-event/
LOCATION:District Office\, 301 E Main Street\, Lititz\, 17543\, United States
ATTACH;FMTTYPE=image/jpeg:https://senatormalone.com/wp-content/uploads/2025/09/License-Plate-Replacement-Oct-2025.jpg
END:VEVENT
BEGIN:VEVENT
DTSTART;TZID=America/New_York:20251024T170000
DTEND;TZID=America/New_York:20251024T200000
DTSTAMP:20260426T001035
CREATED:20251022T153859Z
LAST-MODIFIED:20251022T153859Z
UID:10000030-1761325200-1761336000@senatormalone.com
SUMMARY:Tabling at Spooktacular Family Fun Night
DESCRIPTION:Stop by our table for candy\, coloring & activity books\, children’s books\, and tips for a safe Halloween.
URL:https://senatormalone.com/event/spooktacular-family-fun-night/
LOCATION:Main Street in Mount Joy\, PA\, Main Street\, Mount Joy\, 17552\, United States
ATTACH;FMTTYPE=image/jpeg:https://senatormalone.com/wp-content/uploads/2025/10/Spooktacular-Family-Fun-Night-Oct-2025.jpg
END:VEVENT
BEGIN:VEVENT
DTSTART;TZID=America/New_York:20251025T130000
DTEND;TZID=America/New_York:20251025T160000
DTSTAMP:20260426T001035
CREATED:20251022T153531Z
LAST-MODIFIED:20251022T154004Z
UID:10000029-1761397200-1761408000@senatormalone.com
SUMMARY:Manheim Township Halloween Carnival & Trunk-or-Treat
DESCRIPTION:Stop by our trunk for candy\, coloring & activity books\, children’s books\, and tips for a safe Halloween.
URL:https://senatormalone.com/event/carnival-trunk-or-treat-2025/
LOCATION:Overlook Activities Center\, 301 Golf Drive\, Lancaster\, 17601\, United States
ATTACH;FMTTYPE=image/jpeg:https://senatormalone.com/wp-content/uploads/2025/10/Manheim-Township-Halloween-Carnival-Oct-2025.jpg
END:VEVENT
BEGIN:VEVENT
DTSTART;TZID=America/New_York:20251027T190000
DTEND;TZID=America/New_York:20251027T200000
DTSTAMP:20260426T001035
CREATED:20250729T134056Z
LAST-MODIFIED:20250807T202118Z
UID:10000016-1761591600-1761595200@senatormalone.com
SUMMARY:Tabling at the Lititz Lions Halloween Parade
DESCRIPTION:A representative will be available outside our District Office at 301 East Main Street\, Lititz\, PA 17543 to provide assistance with state agency-related inquiries and concerns.
URL:https://senatormalone.com/event/halloween-parade/
LOCATION:District Office\, 301 E Main Street\, Lititz\, 17543\, United States
ATTACH;FMTTYPE=image/jpeg:https://senatormalone.com/wp-content/uploads/2025/08/Lititz-Lions-Halloween-Parade-Oct-2025.jpg
END:VEVENT
BEGIN:VEVENT
DTSTART;TZID=America/New_York:20251106T120000
DTEND;TZID=America/New_York:20251106T130000
DTSTAMP:20260426T001035
CREATED:20251022T153336Z
LAST-MODIFIED:20251022T154206Z
UID:10000028-1762430400-1762434000@senatormalone.com
SUMMARY:LIHEAP & Utility Help Webinar
DESCRIPTION:Join us for a free informational webinar featuring speakers from the Pennsylvania Department of Human Services and PPL. Learn about the Low-Income Home Energy Assistance Program (LIHEAP)\, available utility assistance options\, and how to apply for support with your heating and energy bills this winter. \nWhether you’re applying for the first time or looking to better understand available programs\, this session will provide the tools and resources you need to navigate the process and keep your household safe and warm. \nRegistration: https://us02web.zoom.us/webinar/register/WN_ZLXKDznAT6e2aURBLKKG5A
URL:https://senatormalone.com/event/liheap-webinar/
ATTACH;FMTTYPE=image/jpeg:https://senatormalone.com/wp-content/uploads/2025/10/LIHEAP-Webinar-Nov-6-2025.jpg
LOCATION:https://us02web.zoom.us/webinar/register/WN_ZLXKDznAT6e2aURBLKKG5A
END:VEVENT
BEGIN:VEVENT
DTSTART;TZID=America/New_York:20251110T080000
DTEND;TZID=America/New_York:20251110T100000
DTSTAMP:20260426T001035
CREATED:20251016T202236Z
LAST-MODIFIED:20251022T154842Z
UID:10000026-1762761600-1762768800@senatormalone.com
SUMMARY:Veterans Day Breakfast
DESCRIPTION:Please join Senator Malone and Representative Rivera for their Veterans Day Breakfast on November 10\, 2025 at 8am at Calvary Homes located at 502 Elizabeth Drive\, Lancaster\, PA 17601. \nWe invite all veterans and active military in our community for a gathering in honor of their brave service. Attendees must pre-register as space is limited. \nRSVP to Representative Rivera’s Office: 717-295-3157 or reprivera@pahouse.net or Senator Malone’s Office: 717-627-0036 or malone@pasenate.com \nPlease let us know if you need special accommodations.
URL:https://senatormalone.com/event/veterans-day-breakfast/
LOCATION:Calvary Homes\, 502 Elizabeth Drive\, Lancaster\, 17601\, United States
ATTACH;FMTTYPE=image/jpeg:https://senatormalone.com/wp-content/uploads/2025/10/2025-Veterans-Day-Breakfast.jpg
END:VEVENT
BEGIN:VEVENT
DTSTART;TZID=America/New_York:20251114T100000
DTEND;TZID=America/New_York:20251114T120000
DTSTAMP:20260426T001035
CREATED:20251021T210946Z
LAST-MODIFIED:20251022T154617Z
UID:10000027-1763114400-1763121600@senatormalone.com
SUMMARY:Policy Hearing: Safeguarding Residential Water Wells
DESCRIPTION:On Friday\, November 14\, 2025\, at 10:00 a.m.\, Senate Democratic Policy Committee Chair Nick Miller (D-14) will host a hearing alongside Senator James Malone (D-36). This hearing will examine our Commonwealth’s actions\, plans\, and progress in safeguarding our commonwealth’s water system and residential wells with a safe and clean water system. \nThis hearing will be held at Columbia Crossing River Trails Center located at 41 Walnut Street\, Columbia\, PA 17512. \nWatch live stream of policy hearing at https://senatormalone.com/live/
URL:https://senatormalone.com/event/policy-hearing-safeguarding-residential-water-wells/
LOCATION:Columbia Crossing River Trails Center\, 41 Walnut Street\, Columbia\, 17512\, United States
ATTACH;FMTTYPE=image/jpeg:https://senatormalone.com/wp-content/uploads/2025/10/SafeguardingResWells-Nov-2025.jpg
END:VEVENT
BEGIN:VEVENT
DTSTART;TZID=America/New_York:20251124T180000
DTEND;TZID=America/New_York:20251124T190000
DTSTAMP:20260426T001035
CREATED:20251117T212143Z
LAST-MODIFIED:20251117T212143Z
UID:10000031-1764007200-1764010800@senatormalone.com
SUMMARY:Pennie Open Enrollment Webinar
DESCRIPTION:Join Senator James Malone and guest speakers from Pennie for a free virtual webinar on Pennsylvania’s official health insurance marketplace. Learn how to explore your coverage options for 2026\, compare plans\, and find potential savings.
URL:https://senatormalone.com/event/penniewebinar2025/
LOCATION:Virtual
ATTACH;FMTTYPE=image/jpeg:https://senatormalone.com/wp-content/uploads/2025/11/Pennie-Webinar-2025.jpg
END:VEVENT
BEGIN:VEVENT
DTSTART;TZID=America/New_York:20251206T140000
DTEND;TZID=America/New_York:20251206T170000
DTSTAMP:20260426T001035
CREATED:20251117T212526Z
LAST-MODIFIED:20251117T212526Z
UID:10000032-1765029600-1765040400@senatormalone.com
SUMMARY:Winterfest
DESCRIPTION:Our table will have free resources for the whole family: children’s coloring and activity books\, Pennsylvania recipe books\, and information on state programs and services.
URL:https://senatormalone.com/event/winterfest/
LOCATION:Main Street in Mount Joy\, PA\, Main Street\, Mount Joy\, 17552\, United States
ATTACH;FMTTYPE=image/jpeg:https://senatormalone.com/wp-content/uploads/2025/11/Winterfest-2025.jpg
END:VEVENT
BEGIN:VEVENT
DTSTART;TZID=America/New_York:20260115T180000
DTEND;TZID=America/New_York:20260115T190000
DTSTAMP:20260426T001035
CREATED:20260105T215437Z
LAST-MODIFIED:20260106T135756Z
UID:10000033-1768500000-1768503600@senatormalone.com
SUMMARY:Webinar: Understanding Unemployment Compensation
DESCRIPTION:Join Senator Malone and speakers from the Pennsylvania Department of Labor & Industry for a free virtual webinar to help Pennsylvanians better understand the Unemployment Compensation (UC) system. \nThis session will explain how to file a claim\, navigate common issues and delays\, and understand how Pennsylvania’s UC program works. Whether you’re newly unemployed or facing challenges with an existing claim\, participants will receive practical guidance and helpful resources. \nWatch Live Stream →
URL:https://senatormalone.com/event/webinar-understanding-unemployment-compensation/
LOCATION:Virtual
ATTACH;FMTTYPE=image/jpeg:https://senatormalone.com/wp-content/uploads/2026/01/UC-Jan-2026.jpg
END:VEVENT
BEGIN:VEVENT
DTSTART;TZID=America/New_York:20260223T180000
DTEND;TZID=America/New_York:20260223T190000
DTSTAMP:20260426T001035
CREATED:20260220T150938Z
LAST-MODIFIED:20260220T151417Z
UID:10000035-1771869600-1771873200@senatormalone.com
SUMMARY:State Budget Telephone Town Hall
DESCRIPTION:I’ll be hosting a Telephone Town Hall on February 23rd at 6:00 PM to discuss the Pennsylvania State Budget. Joining the conversation is Senate Appropriations Minority Chair Vincent Hughes. To sign up and submit questions about legislation in advance\, please visit senatormalone.com/tth.
URL:https://senatormalone.com/event/tth-state-budget/
LOCATION:Call In
ATTACH;FMTTYPE=image/jpeg:https://senatormalone.com/wp-content/uploads/2026/02/TTH_Feb_23_2026.jpg
END:VEVENT
BEGIN:VEVENT
DTSTART;TZID=America/New_York:20260226T100000
DTEND;TZID=America/New_York:20260226T180000
DTSTAMP:20260426T001035
CREATED:20260108T164608Z
LAST-MODIFIED:20260108T164608Z
UID:10000034-1772100000-1772128800@senatormalone.com
SUMMARY:Property Tax/Rent Rebate Clinic
DESCRIPTION:Join Senator Malone and his district office team for a free\, in-person Property Tax/Rent Rebate Clinic. Staff will be available throughout the day to complete Property Tax/Rent Rebate applications on-site for residents of Senate District 36. \nRegistration is required. Please call (717) 627-0036 to register.
URL:https://senatormalone.com/event/property-tax-rent-rebate-clinic/
LOCATION:District Office\, 301 E Main Street\, Lititz\, 17543\, United States
ATTACH;FMTTYPE=image/jpeg:https://senatormalone.com/wp-content/uploads/2026/01/PTRR-Clinic-Feb-2026.jpg
END:VEVENT
BEGIN:VEVENT
DTSTART;TZID=America/New_York:20260323T180000
DTEND;TZID=America/New_York:20260323T184500
DTSTAMP:20260426T001035
CREATED:20260318T150844Z
LAST-MODIFIED:20260318T174746Z
UID:10000036-1774288800-1774291500@senatormalone.com
SUMMARY:Unclaimed Property and Other Treasury Programs
DESCRIPTION:Join Senator Malone and the Pennsylvania Department of Treasury for a free virtual webinar to help Pennsylvanians find unclaimed property and learn about saving programs with the PA Treasury. \nWatch Live Stream → \n 
URL:https://senatormalone.com/event/unclaimedpropertywebinar/
LOCATION:Virtual
ATTACH;FMTTYPE=image/jpeg:https://senatormalone.com/wp-content/uploads/2026/03/Unclaimed-Property-Webinar-2026.jpg
END:VEVENT
BEGIN:VEVENT
DTSTART;TZID=America/New_York:20260513T120000
DTEND;TZID=America/New_York:20260513T130000
DTSTAMP:20260426T001035
CREATED:20260422T145050Z
LAST-MODIFIED:20260423T125833Z
UID:10000038-1778673600-1778677200@senatormalone.com
SUMMARY:Small Business Webinar Series: PA Business Grants and Tax Credits
DESCRIPTION:Join Senator James Malone on Wednesday\, May 13\, 2026 from noon – 1pm for a Small Business Webinar: PA Business Grants and Tax Credits. \nLearn about available grants\, tax credits\, and incentive programs from the Pennsylvania Department of Community and Economic Development. This session will highlight key opportunities and guide businesses through eligibility and application essentials. \nRegister here: https://us02web.zoom.us/webinar/register/WN_TB5IljbqQc2KVzgOtBKR-g
URL:https://senatormalone.com/event/smallbiz-grants/
LOCATION:Virtual
ATTACH;FMTTYPE=image/jpeg:https://senatormalone.com/wp-content/uploads/2026/04/Small-Business-Webinar-May-2026.jpg
END:VEVENT
BEGIN:VEVENT
DTSTART;TZID=America/New_York:20260611T120000
DTEND;TZID=America/New_York:20260611T130000
DTSTAMP:20260426T001035
CREATED:20260422T145104Z
LAST-MODIFIED:20260423T125858Z
UID:10000039-1781179200-1781182800@senatormalone.com
SUMMARY:Small Business Webinar Series: Loans for Growing Businesses
DESCRIPTION:Join Senator James Malone on Thursday\, June 11\, 2026 from noon – 1pm for a Small Business Webinar: Loans for Growing Businesses. \nDiscover financing options designed to help your business expand. Representatives from EDC‑Lancaster County will provide an overview of available loan programs and guidance on how growing companies can access the capital they need. \nRegister here: https://us02web.zoom.us/webinar/register/WN_AQo-jNVvRwa_CffoO-g_pQ
URL:https://senatormalone.com/event/smallbiz-loans/
LOCATION:Virtual
ATTACH;FMTTYPE=image/jpeg:https://senatormalone.com/wp-content/uploads/2026/04/Small-Business-Webinar-June-2026.jpg
END:VEVENT
BEGIN:VEVENT
DTSTART;TZID=America/New_York:20260728T120000
DTEND;TZID=America/New_York:20260728T130000
DTSTAMP:20260426T001035
CREATED:20260422T145137Z
LAST-MODIFIED:20260423T143302Z
UID:10000037-1785240000-1785243600@senatormalone.com
SUMMARY:Small Business Webinar Series: Downtown Revitalization and Small Business Development
DESCRIPTION:Join Senator James Malone on Tuesday\, July 28\, 2026 from noon – 1pm for a Small Business Webinar: Downtown Revitalization and Small Business Development. \nJoin Julie S. Fitzpatrick\, Executive Director of the PA Downtown Center\, as she explores strategies for strengthening downtown districts and supporting small business growth. Learn how communities can foster vibrant\, resilient local economies. \nRegister here: https://us02web.zoom.us/webinar/register/WN_-xx7K50uQI-m7k98NhbMsQ \n  \n 
URL:https://senatormalone.com/event/smallbiz-revitalization/
LOCATION:Virtual
ATTACH;FMTTYPE=image/jpeg:https://senatormalone.com/wp-content/uploads/2026/04/Small-Business-Webinar-November-2026.jpg
END:VEVENT
BEGIN:VEVENT
DTSTART;TZID=America/New_York:20261119T120000
DTEND;TZID=America/New_York:20261119T130000
DTSTAMP:20260426T001035
CREATED:20260422T145249Z
LAST-MODIFIED:20260423T125705Z
UID:10000040-1795089600-1795093200@senatormalone.com
SUMMARY:Small Business Webinar Series: Mentoring and Technical Assistance for Small Business
DESCRIPTION:Join Senator James Malone on Thursday\, November 19\, 2026 from noon – 1pm for a Small Business Webinar: Mentoring and Technical Assistance for Small Business. \nLearn how small businesses can benefit from expert guidance and hands‑on support. Diane Dimitroff\, Chapter Chair of the Susquehanna Valley Chapter of SCORE\, will share how mentoring and technical assistance can help entrepreneurs overcome challenges and accelerate growth. \nRegister here: https://us02web.zoom.us/webinar/register/WN_mVDd3_DtQiupcr6Vp4b9DA
URL:https://senatormalone.com/event/smallbiz-mentoring/
LOCATION:Virtual
ATTACH;FMTTYPE=image/jpeg:https://senatormalone.com/wp-content/uploads/2026/04/Small-Business-Webinar-November-2026.jpg
END:VEVENT
END:VCALENDAR