BEGIN:VCALENDAR
VERSION:2.0
PRODID:-//State Senator James Malone - ECPv6.15.20//NONSGML v1.0//EN
CALSCALE:GREGORIAN
METHOD:PUBLISH
X-WR-CALNAME:State Senator James Malone
X-ORIGINAL-URL:https://senatormalone.com
X-WR-CALDESC:Events for State Senator James Malone
REFRESH-INTERVAL;VALUE=DURATION:PT1H
X-Robots-Tag:noindex
X-PUBLISHED-TTL:PT1H
BEGIN:VTIMEZONE
TZID:America/New_York
BEGIN:DAYLIGHT
TZOFFSETFROM:-0500
TZOFFSETTO:-0400
TZNAME:EDT
DTSTART:20250309T070000
END:DAYLIGHT
BEGIN:STANDARD
TZOFFSETFROM:-0400
TZOFFSETTO:-0500
TZNAME:EST
DTSTART:20251102T060000
END:STANDARD
BEGIN:DAYLIGHT
TZOFFSETFROM:-0500
TZOFFSETTO:-0400
TZNAME:EDT
DTSTART:20260308T070000
END:DAYLIGHT
BEGIN:STANDARD
TZOFFSETFROM:-0400
TZOFFSETTO:-0500
TZNAME:EST
DTSTART:20261101T060000
END:STANDARD
BEGIN:DAYLIGHT
TZOFFSETFROM:-0500
TZOFFSETTO:-0400
TZNAME:EDT
DTSTART:20270314T070000
END:DAYLIGHT
BEGIN:STANDARD
TZOFFSETFROM:-0400
TZOFFSETTO:-0500
TZNAME:EST
DTSTART:20271107T060000
END:STANDARD
END:VTIMEZONE
BEGIN:VEVENT
DTSTART;TZID=America/New_York:20260115T180000
DTEND;TZID=America/New_York:20260115T190000
DTSTAMP:20260425T154005
CREATED:20260105T215437Z
LAST-MODIFIED:20260106T135756Z
UID:10000033-1768500000-1768503600@senatormalone.com
SUMMARY:Webinar: Understanding Unemployment Compensation
DESCRIPTION:Join Senator Malone and speakers from the Pennsylvania Department of Labor & Industry for a free virtual webinar to help Pennsylvanians better understand the Unemployment Compensation (UC) system. \nThis session will explain how to file a claim\, navigate common issues and delays\, and understand how Pennsylvania’s UC program works. Whether you’re newly unemployed or facing challenges with an existing claim\, participants will receive practical guidance and helpful resources. \nWatch Live Stream →
URL:https://senatormalone.com/event/webinar-understanding-unemployment-compensation/
LOCATION:Virtual
ATTACH;FMTTYPE=image/jpeg:https://senatormalone.com/wp-content/uploads/2026/01/UC-Jan-2026.jpg
END:VEVENT
END:VCALENDAR