BEGIN:VCALENDAR
VERSION:2.0
PRODID:-//State Senator James Malone - ECPv6.15.20//NONSGML v1.0//EN
CALSCALE:GREGORIAN
METHOD:PUBLISH
X-WR-CALNAME:State Senator James Malone
X-ORIGINAL-URL:https://senatormalone.com
X-WR-CALDESC:Events for State Senator James Malone
REFRESH-INTERVAL;VALUE=DURATION:PT1H
X-Robots-Tag:noindex
X-PUBLISHED-TTL:PT1H
BEGIN:VTIMEZONE
TZID:America/New_York
BEGIN:DAYLIGHT
TZOFFSETFROM:-0500
TZOFFSETTO:-0400
TZNAME:EDT
DTSTART:20240310T070000
END:DAYLIGHT
BEGIN:STANDARD
TZOFFSETFROM:-0400
TZOFFSETTO:-0500
TZNAME:EST
DTSTART:20241103T060000
END:STANDARD
BEGIN:DAYLIGHT
TZOFFSETFROM:-0500
TZOFFSETTO:-0400
TZNAME:EDT
DTSTART:20250309T070000
END:DAYLIGHT
BEGIN:STANDARD
TZOFFSETFROM:-0400
TZOFFSETTO:-0500
TZNAME:EST
DTSTART:20251102T060000
END:STANDARD
BEGIN:DAYLIGHT
TZOFFSETFROM:-0500
TZOFFSETTO:-0400
TZNAME:EDT
DTSTART:20260308T070000
END:DAYLIGHT
BEGIN:STANDARD
TZOFFSETFROM:-0400
TZOFFSETTO:-0500
TZNAME:EST
DTSTART:20261101T060000
END:STANDARD
END:VTIMEZONE
BEGIN:VEVENT
DTSTART;TZID=America/New_York:20250816T090000
DTEND;TZID=America/New_York:20250816T113000
DTSTAMP:20260425T211613
CREATED:20250729T133110Z
LAST-MODIFIED:20250806T123019Z
UID:10000008-1755334800-1755343800@senatormalone.com
SUMMARY:Shredding Event
DESCRIPTION:Protect your personal information and safely dispose of sensitive documents at our free community shredding event. Residents are invited to bring old bills\, bank statements\, medical records\, and other paper documents for secure on-site shredding. \nPlease note that this event is for paper shredding only. We will not be accepting any electronic waste or items for recycling. To ensure we can serve as many community members as possible\, there is a limit of two boxes of paper per car\, with each box being approximately the size of a standard banker box or smaller. \nThis is a great opportunity to declutter while taking proactive steps to prevent identity theft. The event is free and open to the public on a first-come\, first-served basis.
URL:https://senatormalone.com/event/shredding/
LOCATION:Warwick High School\, 301 W Orange Street\, Lititz\, 17543\, United States
ATTACH;FMTTYPE=image/jpeg:https://senatormalone.com/wp-content/uploads/2025/07/Shredding-Event-Aug-2025.jpg
END:VEVENT
BEGIN:VEVENT
DTSTART;TZID=America/New_York:20250806T180000
DTEND;TZID=America/New_York:20250806T200000
DTSTAMP:20260425T211613
CREATED:20250729T155011Z
LAST-MODIFIED:20250729T155011Z
UID:10000009-1754503200-1754510400@senatormalone.com
SUMMARY:Tabling at National Night Out - East Petersburg
DESCRIPTION:
URL:https://senatormalone.com/event/nno-east-petersburg/
LOCATION:East Petersburg Pool\, 2575 Graystone Road\, East Petersburg\, 17520\, 17520\, United States
END:VEVENT
BEGIN:VEVENT
DTSTART;TZID=America/New_York:20250805T180000
DTEND;TZID=America/New_York:20250805T200000
DTSTAMP:20260425T211613
CREATED:20250729T132607Z
LAST-MODIFIED:20250729T132607Z
UID:10000005-1754416800-1754424000@senatormalone.com
SUMMARY:Tabling at National Night Out - West Hempfield Township
DESCRIPTION:
URL:https://senatormalone.com/event/nno-west-hempfield/
LOCATION:Leisure Lanes\, 3440 Columbia Avenue\, Lancaster\, 17603\, United States
END:VEVENT
BEGIN:VEVENT
DTSTART;TZID=America/New_York:20250805T180000
DTEND;TZID=America/New_York:20250805T200000
DTSTAMP:20260425T211613
CREATED:20250729T132553Z
LAST-MODIFIED:20250729T132553Z
UID:10000006-1754416800-1754424000@senatormalone.com
SUMMARY:Tabling at National Night Out - Manheim Township
DESCRIPTION:
URL:https://senatormalone.com/event/nno-manheim-township/
LOCATION:Overlook Activities Center\, 301 Golf Drive\, Lancaster\, 17601\, United States
END:VEVENT
BEGIN:VEVENT
DTSTART;TZID=America/New_York:20250805T170000
DTEND;TZID=America/New_York:20250805T200000
DTSTAMP:20260425T211613
CREATED:20250729T132712Z
LAST-MODIFIED:20250729T134756Z
UID:10000007-1754413200-1754424000@senatormalone.com
SUMMARY:Tabling at National Night Out - West Earl Township
DESCRIPTION:
URL:https://senatormalone.com/event/nno-west-earl-township/
LOCATION:Broad Street Park\, 801 Broad Street\, Akron\, 17501\, United States
END:VEVENT
BEGIN:VEVENT
DTSTART;TZID=America/New_York:20250805T170000
DTEND;TZID=America/New_York:20250805T200000
DTSTAMP:20260425T211613
CREATED:20250729T132216Z
LAST-MODIFIED:20250729T132216Z
UID:10000004-1754413200-1754424000@senatormalone.com
SUMMARY:Tabling at National Night Out - Marietta
DESCRIPTION:﻿
URL:https://senatormalone.com/event/nno-marietta/
LOCATION:Marietta War Memorial Park\, 344 E Walnut Street\, Marietta\, 17547\, United States
END:VEVENT
BEGIN:VEVENT
DTSTART;TZID=America/New_York:20250805T170000
DTEND;TZID=America/New_York:20250805T200000
DTSTAMP:20260425T211613
CREATED:20250729T132216Z
LAST-MODIFIED:20250729T132216Z
UID:10000003-1754413200-1754424000@senatormalone.com
SUMMARY:Tabling at National Night Out - Ephrata
DESCRIPTION:﻿
URL:https://senatormalone.com/event/nno-ephrata/
LOCATION:LCBC Ephrata\, 6 Hahnstown Road\, Ephrata\, 17522\, United States
END:VEVENT
BEGIN:VEVENT
DTSTART;TZID=America/New_York:20250730T100000
DTEND;TZID=America/New_York:20250730T120000
DTSTAMP:20260425T211613
CREATED:20250709T152721Z
LAST-MODIFIED:20250709T152721Z
UID:10000002-1753869600-1753876800@senatormalone.com
SUMMARY:Policy Hearing - Emergency Service and First Responder Recruitment
DESCRIPTION:On Wednesday\, July 30\, Senate Democratic Policy Committee Chair Nick Miller along with Senator James Malone will host a Policy hearing on Emergency Service and First Responder Recruitment. \nThis roundtable will foster a discussion with local first responders\, such as volunteer firefighters and police officers\, to examine the struggle they face to recruit new members and support their communities. \nThis hearing will be at West Earl Township Municipal Building\, 157 W Metzler Rd\, Ephrata\, PA 17522.
URL:https://senatormalone.com/event/policy-hearing-emergency-service-and-first-responder-recruitment/
LOCATION:West Earl Township Municipal Building\, 157 W Metzler Road\, Ephrata\, 17522\, United States
ATTACH;FMTTYPE=image/jpeg:https://senatormalone.com/wp-content/uploads/2025/07/EmergencyServicesRecruitment-Policy-July-2025.jpg
END:VEVENT
BEGIN:VEVENT
DTSTART;TZID=America/New_York:20250715T180000
DTEND;TZID=America/New_York:20250715T190000
DTSTAMP:20260425T211613
CREATED:20250530T185315Z
LAST-MODIFIED:20250707T173019Z
UID:10000001-1752602400-1752606000@senatormalone.com
SUMMARY:Telephone Town Hall - Constituent Services
DESCRIPTION:Join Senator Malone for a Telephone Town Hall event on Tuesday\, July 15 at 6 pm to discuss constituent services offered by his office.  \nTo submit a question or to sign up to participate\, visit https://senatormalone.com/TTH.
URL:https://senatormalone.com/event/telephonetownhall/
LOCATION:Call In
ATTACH;FMTTYPE=image/jpeg:https://senatormalone.com/wp-content/uploads/2025/07/TTH_July_15_2025.jpg
END:VEVENT
END:VCALENDAR