BEGIN:VCALENDAR
VERSION:2.0
PRODID:-//State Senator James Malone - ECPv6.15.20//NONSGML v1.0//EN
CALSCALE:GREGORIAN
METHOD:PUBLISH
X-ORIGINAL-URL:https://senatormalone.com
X-WR-CALDESC:Events for State Senator James Malone
REFRESH-INTERVAL;VALUE=DURATION:PT1H
X-Robots-Tag:noindex
X-PUBLISHED-TTL:PT1H
BEGIN:VTIMEZONE
TZID:America/New_York
BEGIN:DAYLIGHT
TZOFFSETFROM:-0500
TZOFFSETTO:-0400
TZNAME:EDT
DTSTART:20240310T070000
END:DAYLIGHT
BEGIN:STANDARD
TZOFFSETFROM:-0400
TZOFFSETTO:-0500
TZNAME:EST
DTSTART:20241103T060000
END:STANDARD
BEGIN:DAYLIGHT
TZOFFSETFROM:-0500
TZOFFSETTO:-0400
TZNAME:EDT
DTSTART:20250309T070000
END:DAYLIGHT
BEGIN:STANDARD
TZOFFSETFROM:-0400
TZOFFSETTO:-0500
TZNAME:EST
DTSTART:20251102T060000
END:STANDARD
BEGIN:DAYLIGHT
TZOFFSETFROM:-0500
TZOFFSETTO:-0400
TZNAME:EDT
DTSTART:20260308T070000
END:DAYLIGHT
BEGIN:STANDARD
TZOFFSETFROM:-0400
TZOFFSETTO:-0500
TZNAME:EST
DTSTART:20261101T060000
END:STANDARD
END:VTIMEZONE
BEGIN:VEVENT
DTSTART;TZID=America/New_York:20251014T160000
DTEND;TZID=America/New_York:20251014T180000
DTSTAMP:20260425T211840
CREATED:20250916T192310Z
LAST-MODIFIED:20250916T192310Z
UID:10000025-1760457600-1760464800@senatormalone.com
SUMMARY:License Plate Replacement & Car Seat Safety Event
DESCRIPTION:We’re partnering with the PA State Police to help keep you and your family safe on the road! Stop by for on-site license plate replacements if your plate is peeling\, faded\, or hard to read\, and get a free car seat safety check from certified technicians. Registration is required through our office. \nTo register\, contact our Lititz office at 717-627-0036.
URL:https://senatormalone.com/event/license-plate-replacement-car-seat-safety-event/
LOCATION:District Office\, 301 E Main Street\, Lititz\, 17543\, United States
ATTACH;FMTTYPE=image/jpeg:https://senatormalone.com/wp-content/uploads/2025/09/License-Plate-Replacement-Oct-2025.jpg
END:VEVENT
END:VCALENDAR